BEGIN:VCALENDAR
VERSION:2.0
PRODID:-//Voltis vom Wilisch - ECPv6.2.3//NONSGML v1.0//EN
CALSCALE:GREGORIAN
METHOD:PUBLISH
X-ORIGINAL-URL:https://voltis-vom-wilisch.de
X-WR-CALDESC:Veranstaltungen für Voltis vom Wilisch
REFRESH-INTERVAL;VALUE=DURATION:PT1H
X-Robots-Tag:noindex
X-PUBLISHED-TTL:PT1H
BEGIN:VTIMEZONE
TZID:Europe/Berlin
BEGIN:DAYLIGHT
TZOFFSETFROM:+0100
TZOFFSETTO:+0200
TZNAME:CEST
DTSTART:20240331T010000
END:DAYLIGHT
BEGIN:STANDARD
TZOFFSETFROM:+0200
TZOFFSETTO:+0100
TZNAME:CET
DTSTART:20241027T010000
END:STANDARD
END:VTIMEZONE
BEGIN:VEVENT
DTSTART;TZID=Europe/Berlin:20240420T080000
DTEND;TZID=Europe/Berlin:20240420T170000
DTSTAMP:20260421T210714
CREATED:20240310T141919Z
LAST-MODIFIED:20240310T141921Z
UID:2348-1713600000-1713632400@voltis-vom-wilisch.de
SUMMARY:Spendenlauf zugunsten unseres Fördervereins Bannewitz Wiese am Marienschacht
DESCRIPTION:A-Gruppe \n\n\n\nG-/F-Gruppe \n\n\n\nBambinis \n\n\n\n(Ausweichtermin 13.04.2024)
URL:https://voltis-vom-wilisch.de/event/spendenlauf-zugunsten-unseres-foerdervereins-bannewitz-wiese-am-marienschacht/
END:VEVENT
BEGIN:VEVENT
DTSTART;TZID=Europe/Berlin:20240430T160000
DTEND;TZID=Europe/Berlin:20240430T180000
DTSTAMP:20260421T210714
CREATED:20240310T142132Z
LAST-MODIFIED:20240310T142134Z
UID:2350-1714492800-1714500000@voltis-vom-wilisch.de
SUMMARY:Schauprogramm Feuerwehr Cunnersdorf(Bannewitz)
DESCRIPTION:Bambinis (evtl. A-/G-/F-Gruppe)
URL:https://voltis-vom-wilisch.de/event/schauprogramm-feuerwehr-cunnersdorfbannewitz/
END:VEVENT
END:VCALENDAR