BEGIN:VCALENDAR
VERSION:2.0
PRODID:-//Voltis vom Wilisch - ECPv6.2.3//NONSGML v1.0//EN
CALSCALE:GREGORIAN
METHOD:PUBLISH
X-WR-CALNAME:Voltis vom Wilisch
X-ORIGINAL-URL:https://voltis-vom-wilisch.de
X-WR-CALDESC:Veranstaltungen für Voltis vom Wilisch
REFRESH-INTERVAL;VALUE=DURATION:PT1H
X-Robots-Tag:noindex
X-PUBLISHED-TTL:PT1H
BEGIN:VTIMEZONE
TZID:Europe/Berlin
BEGIN:DAYLIGHT
TZOFFSETFROM:+0100
TZOFFSETTO:+0200
TZNAME:CEST
DTSTART:20240331T010000
END:DAYLIGHT
BEGIN:STANDARD
TZOFFSETFROM:+0200
TZOFFSETTO:+0100
TZNAME:CET
DTSTART:20241027T010000
END:STANDARD
END:VTIMEZONE
BEGIN:VEVENT
DTSTART;TZID=Europe/Berlin:20240525T000000
DTEND;TZID=Europe/Berlin:20240525T235959
DTSTAMP:20260421T175427
CREATED:20240112T153647Z
LAST-MODIFIED:20240112T153648Z
UID:2315-1716595200-1716681599@voltis-vom-wilisch.de
SUMMARY:Turnier Lungkwitz 2024
DESCRIPTION:Unser jährliches Turnier in Lungkwitz
URL:https://voltis-vom-wilisch.de/event/turnier-lungkwitz-2024/
LOCATION:Gestüt am Wilisch\, Wittgensdorfer Straße 10\, Kreischa\, Sachsen\, 01731\, Deutschland
END:VEVENT
END:VCALENDAR